View In:
ArcGIS JavaScript
ArcGIS.com Map
Google Earth
ArcMap
View Footprint In:
ArcGIS.com Map
Service Description:
Name: 11225058/11225058_2125373_Image
Description: 11225058/11225058_2125373_Image
Single Fused Map Cache: false
Extent:
XMin: 310253.67521292
YMin: 6025563.23651826
XMax: 310458.86657292
YMax: 6025768.42787826
Spatial Reference: 26912
(26912)
Initial Extent:
XMin: 310253.67521292
YMin: 6025563.23651826
XMax: 310458.86657292
YMax: 6025768.42787826
Spatial Reference: 26912
(26912)
Full Extent:
XMin: 310253.67521292
YMin: 6025563.23651826
XMax: 310458.86657292
YMax: 6025768.42787826
Spatial Reference: 26912
(26912)
Pixel Size X: 0.39998315789473116
Pixel Size Y: 0.3999831578939369
Band Count: 4
Pixel Type: U8
RasterFunction Infos: N/A
Mensuration Capabilities:
Has Histograms: false
Has Colormap: false
Min Scale: 0
Max Scale: 0
Copyright Text:
Service Data Type: esriImageServiceDataTypeGeneric
Min Values: N/A
Max Values: N/A
Mean Values: N/A
Standard Deviation Values: N/A
Object ID Field:
Fields:
None
Raster Attribute Table: false
Default Mosaic Method: Center
Allowed Mosaic Methods:
SortField:
SortValue: null
Mosaic Operator: First
Default Compression Quality: 75
Default Resampling Method: Bilinear
Max Record Count: null
Max Image Height: 4100
Max Image Width: 15000
Max Download Image Count: null
Max Mosaic Image Count: null
Allow Raster Function: true
Raster Type Infos:
Name: Raster Dataset
Description: Supports all ArcGIS Raster Datasets
Help:
Has Raster Attribute Table: false
Edit Fields Info: null
Ownership Based AccessControl For Rasters: null
Child Resources:
Info
Key Properties
Supported Operations:
Export Image
Identify
Compute Histograms