{
 "currentVersion": 10.11,
 "serviceDescription": "",
 "name": "11225058/11225058_2125373_Image",
 "description": "11225058/11225058_2125373_Image",
 "extent": {
  "xmin": 310253.67521292,
  "ymin": 6025563.23651826,
  "xmax": 310458.86657292,
  "ymax": 6025768.42787826,
  "spatialReference": {
   "wkid": 26912,
   "latestWkid": 26912
  }
 },
 "initialExtent": {
  "xmin": 310253.67521292,
  "ymin": 6025563.23651826,
  "xmax": 310458.86657292,
  "ymax": 6025768.42787826,
  "spatialReference": {
   "wkid": 26912,
   "latestWkid": 26912
  }
 },
 "fullExtent": {
  "xmin": 310253.67521292,
  "ymin": 6025563.23651826,
  "xmax": 310458.86657292,
  "ymax": 6025768.42787826,
  "spatialReference": {
   "wkid": 26912,
   "latestWkid": 26912
  }
 },
 "pixelSizeX": 0.39998315789473116,
 "pixelSizeY": 0.3999831578939369,
 "bandCount": 4,
 "pixelType": "U8",
 "minPixelSize": 0,
 "maxPixelSize": 0,
 "copyrightText": "",
 "serviceDataType": "esriImageServiceDataTypeGeneric",
 "minValues": [],
 "maxValues": [],
 "meanValues": [],
 "stdvValues": [],
 "objectIdField": "",
 "fields": [],
 "capabilities": "Image,Metadata",
 "defaultMosaicMethod": "Center",
 "allowedMosaicMethods": "",
 "sortField": "",
 "sortValue": null,
 "mosaicOperator": "First",
 "defaultCompressionQuality": 75,
 "defaultResamplingMethod": "Bilinear",
 "maxImageHeight": 4100,
 "maxImageWidth": 15000,
 "allowRasterFunction": true,
 "rasterFunctionInfos": [],
 "rasterTypeInfos": [
  {
   "name": "Raster Dataset",
   "description": "Supports all ArcGIS Raster Datasets",
   "help": ""
  }
 ],
 "mensurationCapabilities": "",
 "hasHistograms": false,
 "hasColormap": false,
 "hasRasterAttributeTable": false,
 "minScale": 0,
 "maxScale": 0,
 "editFieldsInfo": null,
 "ownershipBasedAccessControlForRasters": null,
 "spatialReference": {
  "wkid": 26912,
  "latestWkid": 26912
 }
}
